BEGIN:VCALENDAR
VERSION:2.0
PRODID:Events Booking
BEGIN:VEVENT
UID:69ea9d32215ac
SUMMARY:Roundtable - Volunteer (Virtual)
DESCRIPTION:4th Wednesday
 Every fourth Wednesday of the month join Penelo
 pe Luedtke\, Vice President of Membership\, and others from the Membership
  portfolio for a roundtable discussion on what chapter volunteers are doin
 g and learn about currently open volunteer positions.&nbsp\;
 This is an 
 opportunity to engage with different portfolios\, catch up on chapter news
 \, ask questions about specific volunteer positions\, and mingle with curr
 ent volunteers. Volunteer opportunities range from short-term commitments 
 to long-term team lead roles. Whatever your skills or schedule\, we will f
 ind a way to utilize your talents! Join in to learn about these exciting o
 pportunities\, hear what other volunteers are up to and what’s coming ne
 xt. Come and make a difference with us.&nbsp\;
 Moderator:&nbsp\;&nbsp\;P
 enelope Luedtke
LOCATION:Unique URL pending Registration
DTSTART:20220223T200000Z
DTEND:20220223T210000Z
DTSTAMP:20260423T222906Z
ORGANIZER;CN=PMI Portland Chapter:MAILTO:communications@pmi-portland.org
GEO:45.50647;-122.667988
X-APPLE-STRUCTURED-LOCATION;VALUE=URI;X-ADDRESS=Unique URL pending Registra
 tion;X-APPLE-RADIUS=72;X-TITLE=Virtual:45.50647;-122.667988
END:VEVENT
END:VCALENDAR