BEGIN:VCALENDAR
VERSION:2.0
PRODID:Events Booking
BEGIN:VEVENT
UID:69e769e4b3989
SUMMARY:Roundtable - Agile PM (Virtual)
DESCRIPTION:2nd Thursday
 Sponsored by AgilePDX\,&nbsp\;the Agile PM Round
 table is a virtual forum for Agile Project Managers\, Agile Facilitators\,
  and Scrum Masters to gather online once a month and discuss all things pr
 oject\, program\, and portfolio related. This roundtable alternates betwee
 n speakers on Agile-related topics or a Lean Coffee style format facilitat
 ed by experienced Agile PM's and instructors in the PMI Agile Certified Pr
 actitioner prep program.&nbsp\;
 Moderators:&nbsp\; Jean Richardson\, Bri
 an Kronstad\, &amp\; David Whitlock
LOCATION:Unique URL pending Registration
DTSTART:20210114T150000Z
DTEND:20210114T160000Z
DTSTAMP:20260421T121324Z
ORGANIZER;CN=PMI Portland Chapter:MAILTO:communications@pmi-portland.org
GEO:45.50647;-122.667988
X-APPLE-STRUCTURED-LOCATION;VALUE=URI;X-ADDRESS=Unique URL pending Registra
 tion;X-APPLE-RADIUS=72;X-TITLE=Virtual:45.50647;-122.667988
END:VEVENT
END:VCALENDAR