BEGIN:VCALENDAR
VERSION:2.0
PRODID:Events Booking
BEGIN:VEVENT
UID:69ea9cfbf05e1
SUMMARY:Roundtable - Vancouver (Virtual)
DESCRIPTION:4th Friday
 Virtual Meeting
 Moderator:&nbsp\;&nbsp\;Christin
 e Glynn
LOCATION:Unique URL pending Registration
DTSTART:20220128T153000Z
DTEND:20220128T163000Z
DTSTAMP:20260423T222811Z
ORGANIZER;CN=PMI Portland Chapter:MAILTO:communications@pmi-portland.org
GEO:45.50647;-122.667988
X-APPLE-STRUCTURED-LOCATION;VALUE=URI;X-ADDRESS=Unique URL pending Registra
 tion;X-APPLE-RADIUS=72;X-TITLE=Virtual:45.50647;-122.667988
END:VEVENT
END:VCALENDAR