BEGIN:VCALENDAR
VERSION:2.0
PRODID:Events Booking
BEGIN:VEVENT
UID:69e7818907fa7
SUMMARY:Roundtable - North Daimler
DESCRIPTION:3rd Thursday (Even Months)
 Sponsored by Daimler Trucks NA
 
 
 Virtual Roundtable
 
LOCATION:Unique URL pending Registration
DTSTART:20210218T153000Z
DTEND:20210218T163000Z
DTSTAMP:20260421T135417Z
ORGANIZER;CN=PMI Portland Chapter:MAILTO:communications@pmi-portland.org
GEO:45.50647;-122.667988
X-APPLE-STRUCTURED-LOCATION;VALUE=URI;X-ADDRESS=Unique URL pending Registra
 tion;X-APPLE-RADIUS=72;X-TITLE=Virtual:45.50647;-122.667988
END:VEVENT
END:VCALENDAR