BEGIN:VCALENDAR
VERSION:2.0
PRODID:Events Booking
BEGIN:VEVENT
UID:69e8dfae0d575
SUMMARY:Roundtable - North Daimler
DESCRIPTION:2nd Thursday (Even Months)
 Sponsored by Daimler Trucks NA
 
 
 Virtual Roundtable
 
LOCATION:Unique URL pending Registration
DTSTART:20241010T184500Z
DTEND:20241010T200000Z
DTSTAMP:20260422T144814Z
ORGANIZER;CN=PMI Portland Chapter:MAILTO:communications@pmi-portland.org
GEO:45.50647;-122.667988
X-APPLE-STRUCTURED-LOCATION;VALUE=URI;X-ADDRESS=Unique URL pending Registra
 tion;X-APPLE-RADIUS=72;X-TITLE=Virtual:45.50647;-122.667988
END:VEVENT
END:VCALENDAR