BEGIN:VCALENDAR
VERSION:2.0
PRODID:Events Booking
BEGIN:VEVENT
UID:69e7da8b22688
SUMMARY:Roundtable - North Daimler
DESCRIPTION:3rd Thursday (Even Months)
 Sponsored by Daimler Trucks NA
 
 
 Virtual Roundtable
 
LOCATION:4747 N Channel Ave\, Portland\, OR 97217\, USA
DTSTART:20210415T143000Z
DTEND:20210415T153000Z
DTSTAMP:20260421T201403Z
ORGANIZER;CN=PMI Portland Chapter:MAILTO:communications@pmi-portland.org
GEO:45.55648;-122.705704
X-APPLE-STRUCTURED-LOCATION;VALUE=URI;X-ADDRESS=4747 N Channel Ave\, Portla
 nd\, OR 97217\, USA;X-APPLE-RADIUS=72;X-TITLE=Daimler Trucks (DTNA) Techno
 logy & Engineering Center (TEC):45.55648;-122.705704
END:VEVENT
END:VCALENDAR