BEGIN:VCALENDAR
VERSION:2.0
PRODID:Events Booking
BEGIN:VEVENT
UID:69ec0e43b4af8
SUMMARY:Roundtable - Downtown (Online)
DESCRIPTION:2nd Tuesday\, Noon - 1:00 p.m.
 Sponsored by the City of Portl
 and
 Location:&nbsp\;Online Only
 Join Zoom Meeting (Follow link for vid
 eo and computer audio)
 https://zoom.us/j/91686969624Meeting ID: 916 8696
  9624
 Moderators:
 
 Saby Waraich\, PMP\, CSM
 Wesly Smith\, PMP\, CS
 M
 
DTSTART:20211109T200000Z
DTEND:20211109T210000Z
DTSTAMP:20260425T004347Z
ORGANIZER;CN=PMI Portland Chapter:MAILTO:communications@pmi-portland.org
END:VEVENT
END:VCALENDAR