BEGIN:VCALENDAR
VERSION:2.0
PRODID:Events Booking
BEGIN:VEVENT
UID:69e7c568430ec
SUMMARY:Roundtable - Downtown (Online)
DESCRIPTION:2nd Tuesday\, Noon - 1:00 p.m.
 Sponsored by the City of Portl
 and
 Location:&nbsp\;Online Only
 Join Zoom Meeting (Follow link for vid
 eo and computer audio)
 https://zoom.us/j/91686969624Meeting ID: 916 8696
  9624
 Moderators:
 
 Mark Liebe\, Ph.D.\, P.E.\, CSM
 Saby Waraich\, 
 PMP\, CSM
 Wesly Smith\, PMP\, CSM
 
DTSTART:20210309T200000Z
DTEND:20210309T210000Z
DTSTAMP:20260421T184352Z
ORGANIZER;CN=PMI Portland Chapter:MAILTO:communications@pmi-portland.org
END:VEVENT
END:VCALENDAR