BEGIN:VCALENDAR
VERSION:2.0
PRODID:Events Booking
BEGIN:VEVENT
UID:69e7c5618e8b8
SUMMARY:Roundtable - Downtown (Online)
DESCRIPTION:2nd Tuesday\, Noon - 1:00 p.m.
 Sponsored by the City of Portl
 and
 Location:&nbsp\;Online Only
 Join Zoom Meeting (Follow link for vid
 eo and computer audio)
 https://portlandcc.zoom.us/j/93382451745?pwd=Nnp2
 d1pXYnk5WmJER0dnalhEbitUUT09:
 Meeting ID: 933 8245 1745Password: PMIPDX
 
 Dial by your location+1 253 215 8782 US (Tacoma)+1 346 248 7799 US (Hous
 ton)+1 669 900 6833 US (San Jose)
 Moderators:
 
 Mark Liebe\, Ph.D.\, 
 P.E.\, CSM
 Saby Waraich\, PMP\, CSM
 Wesly Smith\, PMP\, CSM
 
DTSTART:20210209T200000Z
DTEND:20210209T210000Z
DTSTAMP:20260421T184345Z
ORGANIZER;CN=PMI Portland Chapter:MAILTO:communications@pmi-portland.org
END:VEVENT
END:VCALENDAR