BEGIN:VCALENDAR
VERSION:2.0
PRODID:Events Booking
BEGIN:VEVENT
UID:69e7c529cf467
SUMMARY:Roundtable - Downtown Agile
DESCRIPTION:2nd Thursday
 Sponsored by the Agile Roundtable
 The Agile PM
  Roundtable is going online in an effort to include Agile PM’s from acro
 ss the city!&nbsp\; The meeting starts promptly at 7am and ends promptly a
 t 8am\, but the meeting room will be open 15 minutes before and after the 
 official meeting times to allow you to hang out and talk with colleagues. 
 Please register at&nbsp\;https://www.meetup.com/AgilePDX-User-Group-Portla
 nd-Metro/&nbsp\;and plan to join with video \"on\" as this supports the fa
 cilitation process and a better experience for everyone. This roundtable a
 lternates between speakers and specific topics (watch Twitter and LinkedIn
  for details)\, traditional brainstorming and voting on 2 to 3 focus topic
 s from the group\, and a new online Lean Coffee format we are eager to try
  out.
 Moderators:&nbsp\; Jean Richardson\, Brian Kronstad\, &amp\; David
  Whitlock
DTSTART:20210311T150000Z
DTEND:20210311T160000Z
DTSTAMP:20260421T184249Z
ORGANIZER;CN=PMI Portland Chapter:MAILTO:communications@pmi-portland.org
END:VEVENT
END:VCALENDAR