BEGIN:VCALENDAR
VERSION:2.0
PRODID:Events Booking
BEGIN:VEVENT
UID:69eb9552715dd
SUMMARY:Roundtable - Downtown (Online)
DESCRIPTION:2nd Tuesday\, Noon - 1:00 p.m.
 Sponsored by the City of Portl
 and
 Location:&nbsp\;Hybrid (Online &amp\; In-Person)
 A roundtable is a
  meeting where Project Managers discuss issues they face on a daily basis.
  The meetings always start with introductions and usually a solicitation f
 or topics that affect project managers in the public sector. These meeting
 s are worth 1 PDU to PMPs\, and can be extremely valuable and fun.&nbsp\;
 
 Sign up for the Roundtable mailing list(s)&nbsp\;by clicking Subscribe.&
 nbsp\;
 &nbsp\;
 Moderators:
 
 Saby Waraich\, PMP\, CSM
 Wesly Smith
 \, PMP
 Tosin Abiodun\, PhD\, PMP
 
LOCATION:1120 SW 5th Ave\, Portland\, OR 97204\, USA
DTSTART:20220111T200000Z
DTEND:20220111T210000Z
DTSTAMP:20260424T160746Z
ORGANIZER;CN=PMI Portland Chapter:MAILTO:communications@pmi-portland.org
GEO:45.515799;-122.678979
X-APPLE-STRUCTURED-LOCATION;VALUE=URI;X-ADDRESS=1120 SW 5th Ave\, Portland\
 , OR 97204\, USA;X-APPLE-RADIUS=72;X-TITLE=Hybrid:45.515799;-122.678979
END:VEVENT
END:VCALENDAR