BEGIN:VCALENDAR
VERSION:2.0
PRODID:Events Booking
BEGIN:VEVENT
UID:69e72c8bd1a6a
SUMMARY:Roundtable - Agile PM (Virtual)
DESCRIPTION:The Agile PM Roundtable is a collaboration between PMI and Agil
 ePDX. This virtual forum seeks to build connections between the Agile and 
 Project Management communities and strives to create an inclusive environm
 ent for people with open and&nbsp\;curious minds. This Roundtable alternat
 es between speakers on Agile-related topics to a Lean Coffee style format 
 facilitated by experienced Agile PM's and instructors.&nbsp\;
 The Roundt
 able meets the third Thursday each month. Meetings start at 7a and end pro
 mptly at 8a\, and the meeting room usually&nbsp\;opens 15 minutes before t
 he official meeting start time to allow you to hang out and talk with coll
 eagues. Please register at the link provided below and dial in from your d
 evice with your favorite early morning brew. A Zoom URL will be provided t
 o confirmed attendees. Feel free to post questions to this meetup prior to
  the event on the MeetUp site.
 We welcome divergent opinions and experie
 nce reports. Bring your challenges for feedback and support from the group
 .
 The topic for this month is\, \"Fostering a Culture of Continuous Impr
 ovement.\"
 
 Moderators:&nbsp\; Brian Kronstad &amp\; David Whitlock
 
 
 Stay up to date - check out our&nbsp\;Agile Roundtable Linkedin&nbsp\;g
 roup.
LOCATION:Unique URL pending Registration
DTSTART:20251218T150000Z
DTEND:20251218T160000Z
DTSTAMP:20231222T053746Z
ORGANIZER;CN=PMI Portland Chapter:MAILTO:communications@pmi-portland.org
GEO:45.50647;-122.667988
X-APPLE-STRUCTURED-LOCATION;VALUE=URI;X-ADDRESS=Unique URL pending Registra
 tion;X-APPLE-RADIUS=72;X-TITLE=Virtual:45.50647;-122.667988
END:VEVENT
END:VCALENDAR