BEGIN:VCALENDAR
VERSION:2.0
PRODID:Events Booking
BEGIN:VEVENT
UID:69e72da6cfebb
SUMMARY:Roundtable - Agile PM (Virtual)
DESCRIPTION:The Agile PM Roundtable is a collaboration between PMI and Agil
 ePDX. This virtual forum seeks to build connections between the Agile and 
 Project Management communities and strives to create an inclusive environm
 ent for people with open and&nbsp\;curious minds. This Roundtable alternat
 es between speakers on Agile-related topics to a Lean Coffee style format 
 facilitated by experienced Agile PM's and instructors.&nbsp\;
 The Roundt
 able meets the third Thursday each month. Meetings start at 7a and end pro
 mptly at 8a\, and the meeting room usually&nbsp\;opens 15 minutes before t
 he official meeting start time to allow you to hang out and talk with coll
 eagues.
LOCATION:Unique URL pending Registration
DTSTART:20251120T150000Z
DTEND:20251120T160000Z
DTSTAMP:20231222T053746Z
ORGANIZER;CN=PMI Portland Chapter:MAILTO:communications@pmi-portland.org
GEO:45.50647;-122.667988
X-APPLE-STRUCTURED-LOCATION;VALUE=URI;X-ADDRESS=Unique URL pending Registra
 tion;X-APPLE-RADIUS=72;X-TITLE=Virtual:45.50647;-122.667988
END:VEVENT
END:VCALENDAR