BEGIN:VCALENDAR
VERSION:2.0
PRODID:Events Booking
BEGIN:VEVENT
UID:69ea114043dd6
SUMMARY:Roundtable - Agile PM (Virtual)
DESCRIPTION:The Agile PM Roundtable is a collaboration between PMI and Agil
 ePDX. This virtual forum seeks to build connections between the Agile and 
 Project Management communities and strives to create an inclusive environm
 ent for people with open and&nbsp\;curious minds. This Roundtable alternat
 es between speakers on Agile-related topics to a Lean Coffee style format 
 facilitated by experienced Agile PM's and instructors.&nbsp\;
 The Roundt
 able meets the third Thursday each month. Meetings start at 7a and end pro
 mptly at 8a\, and the meeting room usually&nbsp\;opens 15 minutes before t
 he official meeting start time to allow you to hang out and talk with coll
 eagues. Please register at&nbsp\;https://www.meetup.com/agilepdx-user-grou
 p-portland-metro/events/308545308/?eventOrigin=group_upcoming_events&nbsp\
 ;and dial in from your device with your favorite early morning brew. A Zoo
 m URL will be provided to confirmed attendees. Feel free to post questions
  to this meetup prior to the event on the MeetUp site.
 The topic for thi
 s month is\,\"How to start your agile journey in 2025 (not 2005)?\".&nbsp\
 ;
 We welcome divergent opinions and experience reports. Bring your chall
 enges for feedback and support from the group.
 
 Moderators:&nbsp\; Bri
 an Kronstad &amp\; David Whitlock
 
 Stay up to date - check out our&nbs
 p\;Agile Roundtable Linkedin&nbsp\;group.
LOCATION:Unique URL pending Registration
DTSTART:20251016T140000Z
DTEND:20251016T150000Z
DTSTAMP:20231222T053746Z
ORGANIZER;CN=PMI Portland Chapter:MAILTO:communications@pmi-portland.org
GEO:45.50647;-122.667988
X-APPLE-STRUCTURED-LOCATION;VALUE=URI;X-ADDRESS=Unique URL pending Registra
 tion;X-APPLE-RADIUS=72;X-TITLE=Virtual:45.50647;-122.667988
END:VEVENT
END:VCALENDAR