BEGIN:VCALENDAR
VERSION:2.0
PRODID:Events Booking
BEGIN:VEVENT
UID:69e80d167847f
SUMMARY:Roundtable - Agile PM (Virtual)
DESCRIPTION:The Agile PM Roundtable is a collaboration between PMI and Agil
 ePDX. This virtual forum seeks to build connections between the Agile and 
 Project Management communities and strives to create an inclusive environm
 ent for people with open and&nbsp\;curious minds. This Roundtable alternat
 es between speakers on Agile-related topics to a Lean Coffee style format 
 facilitated by experienced Agile PM's and instructors.&nbsp\;
 The Roundt
 able meets the third Thursday each month. (June was moved in observation o
 f Juneteenth.) Meetings start at 7a and end promptly at 8a\, and the meeti
 ng room usually&nbsp\;opens 15 minutes before the official meeting start t
 ime to allow you to hang out and talk with colleagues. Please register at&
 nbsp\;https://www.meetup.com/agilepdx-user-group-portland-metro/events/307
 163408/?slug=agilepdx-user-group-portland-metro&amp\;eventId=307163408 and
  dial in from your device with your favorite early morning brew. A Zoom UR
 L will be provided to confirmed attendees. Feel free to post questions to 
 this meetup prior to the event on the MeetUp site.
 We welcome divergent 
 opinions and experience reports. Bring your challenges for feedback and su
 pport from the group.
 The topic&nbsp\;for June is\,\"Retrospective Swap 
 Meet!\".&nbsp\;
 
 Moderators:&nbsp\; Brian Kronstad &amp\; David Whitlo
 ck
 
 Stay up to date - check out our&nbsp\;Agile Roundtable Linkedin&nb
 sp\;group.
LOCATION:Unique URL pending Registration
DTSTART:20250626T140000Z
DTEND:20250626T150000Z
DTSTAMP:20231222T053746Z
ORGANIZER;CN=PMI Portland Chapter:MAILTO:communications@pmi-portland.org
GEO:45.50647;-122.667988
X-APPLE-STRUCTURED-LOCATION;VALUE=URI;X-ADDRESS=Unique URL pending Registra
 tion;X-APPLE-RADIUS=72;X-TITLE=Virtual:45.50647;-122.667988
END:VEVENT
END:VCALENDAR