BEGIN:VCALENDAR
VERSION:2.0
PRODID:Events Booking
BEGIN:VEVENT
UID:69e885179d150
SUMMARY:Roundtable - Agile PM (Virtual)
DESCRIPTION:The Agile PM Roundtable is a collaboration between PMI and Agil
 ePDX. This virtual forum seeks to build connections between the Agile and 
 Project Management communities and strives to create an inclusive environm
 ent for people with open and&nbsp\;curious minds. This Roundtable alternat
 es between speakers on Agile-related topics to a Lean Coffee style format 
 facilitated by experienced Agile PM's and instructors.&nbsp\;
 The Roundt
 able meets the second&nbsp\;Thursday each month. Meetings start at 7a and 
 end promptly at 8a\, and the meeting room usually&nbsp\;opens 15 minutes b
 efore the official meeting start time to allow you to hang out and talk wi
 th colleagues. Please register at&nbsp\; https://www.meetup.com/agilepdx-u
 ser-group-portland-metro/events/297700680/&nbsp\;and dial in from your dev
 ice with your favorite early morning brew. A Zoom URL will be provided to 
 confirmed attendees. Feel free to post questions to this meetup prior to t
 he event on the MeetUp site.
 The topic for this month is\,\"How Product 
 Owners enable great Agile teams\".
 We welcome divergent opinions and exp
 erience reports. Bring your challenges for feedback and support from the g
 roup.
 
 Moderators:&nbsp\; Brian Kronstad\, &amp\; David Whitlock
 
 
 Stay up to date - check out our&nbsp\;Agile Roundtable Linkedin&nbsp\;grou
 p.
LOCATION:Unique URL pending Registration
DTSTART:20240111T150000Z
DTEND:20240111T160000Z
DTSTAMP:20231222T053746Z
ORGANIZER;CN=PMI Portland Chapter:MAILTO:communications@pmi-portland.org
GEO:45.50647;-122.667988
X-APPLE-STRUCTURED-LOCATION;VALUE=URI;X-ADDRESS=Unique URL pending Registra
 tion;X-APPLE-RADIUS=72;X-TITLE=Virtual:45.50647;-122.667988
END:VEVENT
END:VCALENDAR