BEGIN:VCALENDAR
VERSION:2.0
PRODID:Events Booking
BEGIN:VEVENT
UID:69e9b6fb34882
SUMMARY:Willamette Valley Professional Development Conference
DESCRIPTION:&nbsp\;
 Did you know that our sister PMI Chapter in the Willa
 mette Valley is having its professional development conference on October 
 6th at the Salem Convention Center? This&nbsp\;year's theme is Influencing
  Engagment\, and our friends down in Willamette Valley are excited to be b
 ack to meeting in person with this year's conference. For registration det
 ails and the impressive lineup of speakers\, please refer to the link belo
 w.&nbsp\;
 &nbsp\;
 https://pmiwv.org/conferences
LOCATION:Unique URL pending Registration
DTSTART:20231006T153000Z
DTEND:20231006T230000Z
DTSTAMP:20260423T060651Z
ORGANIZER;CN=PMI Portland Chapter:MAILTO:communications@pmi-portland.org
GEO:45.50647;-122.667988
X-APPLE-STRUCTURED-LOCATION;VALUE=URI;X-ADDRESS=Unique URL pending Registra
 tion;X-APPLE-RADIUS=72;X-TITLE=Virtual:45.50647;-122.667988
END:VEVENT
END:VCALENDAR