BEGIN:VCALENDAR
VERSION:2.0
PRODID:Events Booking
BEGIN:VEVENT
UID:69eb7d78a617b
SUMMARY:Workshop - Winter 2022 Disciplined Agile Scrum Master Preparation C
 ourse
DESCRIPTION:Summary:
 Are you struggling with finding the most appropriate
  Agile framework to fit your team’s context? As a Certified Disciplined 
 Agile Scrum Master (DASM)\, you are equipped with the knowledge of differe
 nt Agile life cycles\, and understand the context wherein which lifecycle 
 will be more applicable. The DASM course will provide you strategies to im
 prove your processes and drive better team results with the Disciplined Ag
 ile toolkit.
DTSTART:20220219T160000Z
DTEND:20220221T000000Z
DTSTAMP:20260424T142600Z
ORGANIZER;CN=PMI Portland Chapter:MAILTO:communications@pmi-portland.org
END:VEVENT
END:VCALENDAR