BEGIN:VCALENDAR
VERSION:2.0
PRODID:Events Booking
BEGIN:VEVENT
UID:69ea9ce1426ef
SUMMARY:Workshop - Fall 2022 PMP Certification Preparation Course
DESCRIPTION:Summary:
 Have you been thinking of testing for your Project&n
 bsp\;Management Professional Certification? Are you ready to&nbsp\;take th
 e next step in your Project Management career? If&nbsp\;so\, then consider
  enrolling in a five-day bootcamp&nbsp\;presented by Eduhubspot which will
  bring the Project&nbsp\;Management Book of Knowledge (PMBOK) methodology&
 nbsp\;and real-world experience into focus. Learn the skills and&nbsp\;str
 ategies that are essential to passing the PMP exam and&nbsp\;gain further 
 credibility in project management processes&nbsp\;and work practices.
DTSTART:20221205T160000Z
DTEND:20221210T000000Z
DTSTAMP:20260423T222745Z
ORGANIZER;CN=PMI Portland Chapter:MAILTO:communications@pmi-portland.org
END:VEVENT
END:VCALENDAR