BEGIN:VCALENDAR
VERSION:2.0
PRODID:Events Booking
BEGIN:VEVENT
UID:69ea9ce19cca8
SUMMARY:Workshop - Analytical Decision Making
DESCRIPTION:Summary:
 Dr. Errol Wirasinghe PhD.will be delivering this wor
 kshop and has distributed the training on the Decision-making topic into t
 wo parts and comes&nbsp\;packed with four PDUs (2 in Ways of Working &amp\
 ; 2 in&nbsp\;Power Skills).
 Decision-making in the Age of Big Data (ABD)
 &nbsp\;provides an insight into the Perils and Pitfalls we face&nbsp\;when
  making decisions in the age of big-data.&nbsp\;&nbsp\;Attendees will lear
 n about decision-contamination\, and&nbsp\;decision-manipulation\, and how
  to remedy this situation
DTSTART:20221202T160000Z
DTEND:20221202T201500Z
DTSTAMP:20260423T222745Z
ORGANIZER;CN=PMI Portland Chapter:MAILTO:communications@pmi-portland.org
END:VEVENT
END:VCALENDAR