BEGIN:VCALENDAR
VERSION:2.0
PRODID:Events Booking
BEGIN:VEVENT
UID:69e8f5a38bc01
SUMMARY:Summer Webinar - Unlocking Career Advancement: A Comprehensive Over
 view of PMI Project Management Certifications
DESCRIPTION:Summer 2024 Virtual Workshop
 June 6th 5:00 - 6:15pm PDT
 &nb
 sp\;
 Join us for an enlightening session as we delve into the realm of p
 roject&nbsp\;management certifications offered by the Project Management I
 nstitute (PMI)\,&nbsp\;designed to propel your career through its various 
 stages. Beyond mereknowledge acquisition and skill enhancement\, PMI certi
 fications offer a&nbsp\;gateway to professional growth and recognition.Thi
 s training session will meticulously explore the multifaceted advantages o
 f&nbsp\;PMI certification courses&nbsp\;(CAPM\, PMP\, ACP\, PgMP\, PfMP\, 
 SAFE). We'll shine a&nbsp\;spotlight on core certifications universally re
 levant across industries\, alongsidespecialized credentials tailored to sp
 ecific disciplines—credentials highly&nbsp\;coveted by discerning employ
 ers.Delving deeper\, our program will provide a comprehensive overview of 
 the&nbsp\;premier project management courses offered by PMI. Through metic
 ulous&nbsp\;comparison\, we will dissect the distinctive focuses of each c
 ertification\, elucidating their respective eligibility criteria in terms 
 of education and&nbsp\;professional experience.Join us as we navigate thro
 ugh the intricacies of PMI project management&nbsp\;certifications\, equip
 ping you with the insights and knowledge necessary to&nbsp\;make informed 
 decisions about your professional development. Don't miss thisopportunity 
 to chart your course towards career excellence with PMI&nbsp\;certificatio
 ns.
LOCATION:Unique URL pending Registration
DTSTART:20240607T000000Z
DTEND:20240607T011500Z
DTSTAMP:20230925T221530Z
ORGANIZER;CN=PMI Portland Chapter:MAILTO:communications@pmi-portland.org
GEO:45.50647;-122.667988
X-APPLE-STRUCTURED-LOCATION;VALUE=URI;X-ADDRESS=Unique URL pending Registra
 tion;X-APPLE-RADIUS=72;X-TITLE=Virtual:45.50647;-122.667988
END:VEVENT
END:VCALENDAR