BEGIN:VCALENDAR
VERSION:2.0
PRODID:Events Booking
BEGIN:VEVENT
UID:69e91eff555d5
SUMMARY:Spring Webinar - There is nothing wrong with Being Agile Or is e
 verything wrong with Being Agile?
DESCRIPTION:Spring 2024 Virtual Workshop
 April 29th 5:00 - 6:15pm PDT
 &
 nbsp\;
 Topic:&nbsp\;There is nothing wrong with&nbsp\;Being&nbsp\;Agile&
 nbsp\;Or is everything is wrong with&nbsp\;Being&nbsp\;Agile?
 “Learn f
 rom yesterday\, live for today\, hope for tomorrow. The important thing is
  not to stopquestioning.”&nbsp\;This is a famous saying by world-renowne
 d scientist Albert Einstein. The mostimportant lessons you get from this s
 aying are LEARN\, LIVE and HOPE. Never stop&nbsp\;LEARNING\,apply those le
 arnings\,&nbsp\;LIVE&nbsp\;your life to the fullest and finally&nbsp\;HOPE
 &nbsp\;these learnings help you togrow. The world would have been so much 
 different if we stopped learning or we didn't grow.The world would have be
 en so much different if we would have never adopted&nbsp\;agile. Right?&nb
 sp\;However\, the real question is why one should adopt&nbsp\;agile.&nbsp\
 ;Varun&nbsp\;Anand learned this heartfeltlesson personally when his ordina
 ry + boring predictive project manager life forced him toembrace&nbsp\;agi
 le. In this self-analyzing\, personal talk\, he talks about different&nbsp
 \;agile&nbsp\;techniques andhow you can adopt them in not just your profes
 sional life but also in your day-to-day life.
LOCATION:Unique URL pending Registration
DTSTART:20240430T000000Z
DTEND:20240430T011500Z
DTSTAMP:20230925T221530Z
ORGANIZER;CN=PMI Portland Chapter:MAILTO:communications@pmi-portland.org
GEO:45.50647;-122.667988
X-APPLE-STRUCTURED-LOCATION;VALUE=URI;X-ADDRESS=Unique URL pending Registra
 tion;X-APPLE-RADIUS=72;X-TITLE=Virtual:45.50647;-122.667988
END:VEVENT
END:VCALENDAR