BEGIN:VCALENDAR
VERSION:2.0
PRODID:Events Booking
BEGIN:VEVENT
UID:69e7181aeae8e
SUMMARY:Team Chemistry: How to Use Interaction Styles to Move from Friction
  to Flow
DESCRIPTION:
 &nbsp\;
 &nbsp\;Ever wonder why great project team members 
 struggle to work together? In today’s increasingly diverse and distribut
 ed project environments\, the way we interact - driven by cultural norms\,
  individual styles\, and invisible differences - can be the key to either 
 dysfunction or dynamic success.
 This session shows you how to understand
  common interaction styles and use them to transform friction into flow. Y
 ou will learn to recognize these styles\, bring together team members’ c
 omplementary strengths\, and reduce conflict. You’ll leave equipped to f
 oster healthier team dynamics and lead your team with greater versatility.
LOCATION:Unique URL pending Registration
DTSTART:20251104T200000Z
DTEND:20251104T210000Z
DTSTAMP:20260421T062426Z
ORGANIZER;CN=PMI Portland Chapter:MAILTO:communications@pmi-portland.org
GEO:45.50647;-122.667988
X-APPLE-STRUCTURED-LOCATION;VALUE=URI;X-ADDRESS=Unique URL pending Registra
 tion;X-APPLE-RADIUS=72;X-TITLE=Virtual:45.50647;-122.667988
END:VEVENT
END:VCALENDAR