BEGIN:VCALENDAR
VERSION:2.0
PRODID:Events Booking
BEGIN:VEVENT
UID:69e75a33f0595
SUMMARY:Show Me Your RAID Log
DESCRIPTION:
 &nbsp\;
 &nbsp\;
 Projects don’t go wrong because of the
  activities on your Kanban&nbsp\; board or your 1000-line project 
 plan. Projects go wrong because of unmanaged risks\, forgotten action item
 s\, out of control issues or poor decisions. That’s why the most importa
 nt part of the plan is planning for your plan to not go according to plan.
LOCATION:Unique URL pending Registration
DTSTART:20250805T190000Z
DTEND:20250805T200000Z
DTSTAMP:20260421T110627Z
ORGANIZER;CN=PMI Portland Chapter:MAILTO:communications@pmi-portland.org
GEO:45.50647;-122.667988
X-APPLE-STRUCTURED-LOCATION;VALUE=URI;X-ADDRESS=Unique URL pending Registra
 tion;X-APPLE-RADIUS=72;X-TITLE=Virtual:45.50647;-122.667988
END:VEVENT
END:VCALENDAR