BEGIN:VCALENDAR
VERSION:2.0
PRODID:Events Booking
BEGIN:VEVENT
UID:69e86e40bddba
SUMMARY:How to Manage Projects - A Practical Workshop using Atlassian JIRA
DESCRIPTION:
 &nbsp\;
 &nbsp\;
 In this one-hour webinar\, “How to Man
 age Projects - A Practical Workshop using Jira” you’ll dive into the f
 undamentals of using Jira for effective project management. This focused s
 ession is designed to provide hands-on guidance on setting up and managing
  Agile workflows in Jira. We’ll cover key features such as creating and 
 tracking tasks\, using Scrum and Kanban boards\, and generating reports to
  monitor progress. By the end of this workshop\, you’ll have a solid und
 erstanding of how to leverage Jira to enhance team collaboration and strea
 mline your project management processes.
LOCATION:Unique URL pending Registration
DTSTART:20241218T010000Z
DTEND:20241218T020000Z
DTSTAMP:20260422T064416Z
ORGANIZER;CN=PMI Portland Chapter:MAILTO:communications@pmi-portland.org
GEO:45.50647;-122.667988
X-APPLE-STRUCTURED-LOCATION;VALUE=URI;X-ADDRESS=Unique URL pending Registra
 tion;X-APPLE-RADIUS=72;X-TITLE=Virtual:45.50647;-122.667988
END:VEVENT
END:VCALENDAR