BEGIN:VCALENDAR
VERSION:2.0
PRODID:Events Booking
BEGIN:VEVENT
UID:69e8b253b8404
SUMMARY:Do More with Less: How to Align Projects and Strategy
DESCRIPTION:
 &nbsp\;
 &nbsp\;
 Do more with less! Project portfolio man
 agement (PPM) allows you to select the projects that will deliver maximum 
 business value. PPM is not project management on steroids. It is fundament
 ally different from project management and requires completely different t
 echniques and perspectives.
 This session will show you what portfolio ma
 nagement is\, how it complements project management\, and why it is vital 
 for business success. It will summarize current portfolio management techn
 iques and best practices and will show you how to select\, prioritize\, an
 d coordinate projects to increase their value to your organization.
LOCATION:Unique URL pending Registration
DTSTART:20241015T233000Z
DTEND:20241016T010000Z
DTSTAMP:20260422T113443Z
ORGANIZER;CN=PMI Portland Chapter:MAILTO:communications@pmi-portland.org
GEO:45.50647;-122.667988
X-APPLE-STRUCTURED-LOCATION;VALUE=URI;X-ADDRESS=Unique URL pending Registra
 tion;X-APPLE-RADIUS=72;X-TITLE=Virtual:45.50647;-122.667988
END:VEVENT
END:VCALENDAR