BEGIN:VCALENDAR
VERSION:2.0
PRODID:Events Booking
BEGIN:VEVENT
UID:69e8b25a41590
SUMMARY:Lean-Agile Principle and Practices
DESCRIPTION:
 &nbsp\;
 &nbsp\;
 Unlock the full potential of your enterp
 rise by learning how to navigate the Lean-Agile principles and practices t
 hat drive continuous business transformation. In this presentation\, we’
 ll explore how to integrate Lean and Agile methodologies with Value Stream
  Management (VSM) to eliminate waste\, optimize efficiency\, and deliver c
 ustomer-centric value. You’ll also learn how to coordinate the work of m
 ultiple Lean-Agile teams to achieve seamless collaboration and enhanced ou
 tcomes. Discover how to apply these practices across industries to foster 
 innovation\, enhance operational performance\, and sustain competitive adv
 antage. Join us for ctionable insights and guidance that will set you on t
 he right path in your Lean-Agile learning journey\, empowering your organi
 zation to thrive in an ever-evolving business landscape.
LOCATION:Unique URL pending Registration
DTSTART:20240925T000000Z
DTEND:20240925T010000Z
DTSTAMP:20260422T113450Z
ORGANIZER;CN=PMI Portland Chapter:MAILTO:communications@pmi-portland.org
GEO:45.50647;-122.667988
X-APPLE-STRUCTURED-LOCATION;VALUE=URI;X-ADDRESS=Unique URL pending Registra
 tion;X-APPLE-RADIUS=72;X-TITLE=Virtual:45.50647;-122.667988
END:VEVENT
END:VCALENDAR