BEGIN:VCALENDAR
VERSION:2.0
PRODID:Events Booking
BEGIN:VEVENT
UID:69e75909d0057
SUMMARY:Event - Outreach In-person Career in Project Management
DESCRIPTION:
 &nbsp\;
 &nbsp\;
 Learn&nbsp\;about a Career in Project Ma
 nagement
LOCATION:7475 SW Oleson Rd\, Portland\, OR 97223
DTSTART:20251001T020000Z
DTEND:20251001T033000Z
DTSTAMP:20260421T110129Z
ORGANIZER;CN=PMI Portland Chapter:MAILTO:communications@pmi-portland.org
GEO:45.476;0
X-APPLE-STRUCTURED-LOCATION;VALUE=URI;X-ADDRESS=7475 SW Oleson Rd\, Portlan
 d\, OR 97223;X-APPLE-RADIUS=72;X-TITLE=Garden Home Community Library Room 
 7:45.476;0
END:VEVENT
END:VCALENDAR