BEGIN:VCALENDAR
VERSION:2.0
PRODID:Events Booking
BEGIN:VEVENT
UID:69eae3d0a9b72
SUMMARY:Event - Outreach In-person Back to the Future at The Radio Room- Ne
 tworking and Happy Hour (Sponsored by Apex Systems)
DESCRIPTION:
 &nbsp\;
 &nbsp\;
 Hello McFly? Don’t miss this opportuni
 ty to shape your destiny with PMI Portland and Apex Systems on TuesdaySept
 ember 20th\, 2022 when the clock strikes 6PM at the Radio Room.
 Roads…
  where we‘re going we don’t need roads\, but we do need food and drink
 s. Thanks to our sponsors we willbe fueled for a great night. You don’t 
 need to build a time machine out of a DeLorean to get there so sign up tod
 ay.
DTSTART:20220921T010000Z
DTEND:20220921T033000Z
DTSTAMP:20260424T033024Z
ORGANIZER;CN=PMI Portland Chapter:MAILTO:communications@pmi-portland.org
END:VEVENT
END:VCALENDAR