BEGIN:VCALENDAR
VERSION:2.0
PRODID:Events Booking
BEGIN:VEVENT
UID:69eaf685961b3
SUMMARY:Event - Outreach In-person Networking & Resume Review Night at Univ
 ersity of Portland  -  Co-Sponsored by University of Portland and Apex Sys
 tems
DESCRIPTION:
 &nbsp\;
 &nbsp\;
 Are you ready to dust off your resume an
 d get some one on one tutoring for an A+ in professional development?
 PM
 I Portland\, University of Portland\, and Apex Systems have teamed up for 
 a first class night of
 networking and collaboration.
DTSTART:20220916T000000Z
DTEND:20220916T030000Z
DTSTAMP:20260424T045013Z
ORGANIZER;CN=PMI Portland Chapter:MAILTO:communications@pmi-portland.org
END:VEVENT
END:VCALENDAR