BEGIN:VCALENDAR
VERSION:2.0
PRODID:Events Booking
BEGIN:VEVENT
UID:69e72e08daca1
SUMMARY:Event - Outreach In-person Networking and Improving Your Personal B
 randing
DESCRIPTION:
 &nbsp\;
 &nbsp\;
 Elevate your career with our hands-on wo
 rkshop on personal branding! Come join us on Thursday October 30\, 2025 to
  learn about strategies and techniques to create an authentic\, personal b
 rand that stands out in today’s job market. Work in small group sessions
  to practice verbalizing your brand in a safe and collaborative environmen
 t with industry peers and branding professionals. Whether you’re searchi
 ng for a new job or climbing in your current career\, walk away knowing ho
 w to clearly communicate your value to employers with a consistent brand a
 cross online platforms and through in-person networking. Sign up today!
DTSTART:20251031T003000Z
DTEND:20251031T023000Z
DTSTAMP:20260421T075800Z
ORGANIZER;CN=PMI Portland Chapter:MAILTO:communications@pmi-portland.org
END:VEVENT
END:VCALENDAR