BEGIN:VCALENDAR
VERSION:2.0
PRODID:Events Booking
BEGIN:VEVENT
UID:69e9b77326690
SUMMARY:PMI Portland x Feed the Mass
DESCRIPTION:Join us Friday\, October 20th for our first community outreach 
 event of the year! We are partnering with Feed the Mass to prep and packag
 e high quality meals for the local community. FTM delivers multiple sustai
 nable solutions to combat food insecurity in the Portland metro area.
DTSTART:20231020T210000Z
DTEND:20231021T010000Z
DTSTAMP:20260423T060851Z
ORGANIZER;CN=PMI Portland Chapter:MAILTO:communications@pmi-portland.org
END:VEVENT
END:VCALENDAR