BEGIN:VCALENDAR
VERSION:2.0
PRODID:Events Booking
BEGIN:VEVENT
UID:69e9b7cf677e1
SUMMARY:Event - Outreach In-person Veteran’s Salute & PMI Portland Networ
 king (Sponsored by Apex Systems)
DESCRIPTION:
 &nbsp\;
 &nbsp\;
 Veterans in the Portland area…the PMI 
 Portland Chapter and our sponsor\, Apex Systems would like to honor you!

  Join us at the Thirsty Lion Gastropub (Tigard\, OR) on November 9th for a
 n opportunity to network with PMI Portland&nbsp\;Chapter members\, and Vet
 erans from other local organizations. Our members are eager to assist with
  translating&nbsp\;military experience into project management roles\, men
 torship or training! As always food and drink will be&nbsp\;generously pro
 vided by our sponsor\, Apex Systems!
 Pass the word to your colleagues\, 
 family\, and friends. We look forward to great event!
 Note: While the pu
 rpose of the event is to honor Veterans\, all are welcome to attend!
DTSTART:20231110T020000Z
DTEND:20231110T043000Z
DTSTAMP:20260423T061023Z
ORGANIZER;CN=PMI Portland Chapter:MAILTO:communications@pmi-portland.org
END:VEVENT
END:VCALENDAR