BEGIN:VCALENDAR
VERSION:2.0
PRODID:Events Booking
BEGIN:VEVENT
UID:69e9a1201cbc0
SUMMARY:PMI Portland x Feed the Mass
DESCRIPTION:Join us Friday\, November 17th for our next community outreach 
 event of the year! We are partnering with Feed the Mass to prep and packag
 e high quality meals for the local community. FTM delivers multiple sustai
 nable solutions to combat food insecurity in the Portland metro area.
DTSTART:20231117T220000Z
DTEND:20231118T020000Z
DTSTAMP:20260423T043336Z
ORGANIZER;CN=PMI Portland Chapter:MAILTO:communications@pmi-portland.org
END:VEVENT
END:VCALENDAR