BEGIN:VCALENDAR
VERSION:2.0
PRODID:Events Booking
BEGIN:VEVENT
UID:69eab6b06674a
SUMMARY:Event - Outreach In-person Veteran’s Salute & PMI Portland Networ
 king (Sponsored by Apex Systems)
DESCRIPTION:
 &nbsp\;
 &nbsp\;
 Veterans in the Portland Metropolitan ar
 ea\, the PMI Portland Chapter and our sponsor\, Apex Systems would like to
  honor all of you!
 Join us at the Heathen Brewing – Feral Public House
  (Vancouver\, WA) on November 10th for networking with other Veterans\, PM
 I Portland Chapter members\, and other local Veteran organizations. Food a
 nd drinks will be provided.
 Open to Veterans\, their families and friend
 s.. As always\, we also welcome those interested in project management or 
 currently in a project management role.
DTSTART:20221111T020000Z
DTEND:20221111T040000Z
DTSTAMP:20260424T001752Z
ORGANIZER;CN=PMI Portland Chapter:MAILTO:communications@pmi-portland.org
END:VEVENT
END:VCALENDAR