BEGIN:VCALENDAR
VERSION:2.0
PRODID:Events Booking
BEGIN:VEVENT
UID:69eb36b76df85
SUMMARY:Event - Outreach In-person Networking Series - ¡Quiero Fiesta! In-
 person Networking with PMI Portland & Apex Systems
DESCRIPTION:
 &nbsp\;
 &nbsp\;
 Say YES to extra guacamole with your PMI
  Portland and Apex Systems amigos as we kick off the 2022 Virtual Spring C
 onference! So come on down to Rocio’s in South East Portland to spice up
  your week\, smash the WFH pinata over margaritas.
DTSTART:20220504T010000Z
DTEND:20220504T030000Z
DTSTAMP:20260424T092407Z
ORGANIZER;CN=PMI Portland Chapter:MAILTO:communications@pmi-portland.org
END:VEVENT
END:VCALENDAR