BEGIN:VCALENDAR
VERSION:2.0
PRODID:Events Booking
BEGIN:VEVENT
UID:69ea4589c32d3
SUMMARY:Event - Outreach In-person Pre-Spring Symposium Happy Hour: Beer & 
 Wine Tasting Night at Hop N Cork Taproom (Sponsored by Apex Systems)
DESCRIPTION:
 &nbsp\;
 &nbsp\;
 PMI members in the Portland metro area\,
  please join us in celebrating the start of the spring symposium a day ear
 ly with a beer and wine tasting night!
 With the help of our friends and 
 sponsor\, Apex Systems\, you’ll be sure to get a taste of new career and
  networking opportunities too!
DTSTART:20230519T010000Z
DTEND:20230519T030000Z
DTSTAMP:20260423T161505Z
ORGANIZER;CN=PMI Portland Chapter:MAILTO:communications@pmi-portland.org
END:VEVENT
END:VCALENDAR