BEGIN:VCALENDAR
VERSION:2.0
PRODID:Events Booking
BEGIN:VEVENT
UID:69eb668b459c3
SUMMARY:Event - Outreach In-person Networking Series - Get lucky @ The Dull
 ahan with PMI Portland & Apex Systems
DESCRIPTION:
 &nbsp\;
 &nbsp\;
 Join PMI Portland and Apex Systems\, Por
 tland Metro area’s premier job leprechauns\, at The Dullahan Pub in Lake
  Oswego on March 7th to celebrate St. Paddy’s day.
DTSTART:20220308T020000Z
DTEND:20220308T040000Z
DTSTAMP:20260424T124811Z
ORGANIZER;CN=PMI Portland Chapter:MAILTO:communications@pmi-portland.org
END:VEVENT
END:VCALENDAR