BEGIN:VCALENDAR
VERSION:2.0
PRODID:Events Booking
BEGIN:VEVENT
UID:69eb0b5f2b998
SUMMARY:Event - Outreach In-person Networking Series -  Backyard BBQ @ Loya
 l Legion-Beaverton with PMI Portland & Apex Systems
DESCRIPTION:
 &nbsp\;
 &nbsp\;
 You are invited to the most epic BBQ on 
 the bestest backyard patio in Beaverton. So put on your sundress or Hawaii
 an shirt\, grab a pair of shades\, slather on the sunscreen and bring a fr
 iend to join your buddies at PMI Portland and Apex Systems. Loyal Legion h
 as the place\, Apex systems recruiters are talking up their cornhole game 
 and PMI volunteers are eager to share their career story with you.&nbsp\; 
 This event is going to be smoking – so don’t get burned by not attendi
 ng.
DTSTART:20220713T010000Z
DTEND:20220713T030000Z
DTSTAMP:20260424T061911Z
ORGANIZER;CN=PMI Portland Chapter:MAILTO:communications@pmi-portland.org
END:VEVENT
END:VCALENDAR