BEGIN:VCALENDAR
VERSION:2.0
PRODID:Events Booking
BEGIN:VEVENT
UID:69ea73cebd332
SUMMARY:Event - Outreach In-person Game Night & PMI Portland Networking Eve
 nt at Steeleplejack (Sponsored by Apex Systems)
DESCRIPTION:
 &nbsp\;
 &nbsp\;
 Calling all Project Management Professio
 nals\, Scrum Masters\, Agile Practitioners\, Product Managers and friends 
 to join us for a fun night of games and professional networking!
 Test yo
 ur skills\, show off your dexterity and have a laugh all while meeting new
  people. Don’t forget to invite your friends and colleagues.
DTSTART:20230210T020000Z
DTEND:20230210T040000Z
DTSTAMP:20260423T193230Z
ORGANIZER;CN=PMI Portland Chapter:MAILTO:communications@pmi-portland.org
END:VEVENT
END:VCALENDAR