BEGIN:VCALENDAR
VERSION:2.0
PRODID:Events Booking
BEGIN:VEVENT
UID:69e6d45893401
SUMMARY:Event - Outreach Improve Your Resume
DESCRIPTION:Looking for work or thinking about changing roles and wondering
  if your resume is up to par? Come join us on February 26 at 2130 SW Fifth
  AVE\, Portland\, OR 97201 to learn about resume best practices and how to
  make yours more attractive to hiring managers and recruiters. Work in sma
 ll group sessions to analyze your current resume and get feedback for ways
  to improve it.
DTSTART:20260227T010000Z
DTEND:20260227T030000Z
DTSTAMP:20260203T121636Z
ORGANIZER;CN=PMI Portland Chapter:MAILTO:communications@pmi-portland.org
END:VEVENT
END:VCALENDAR