BEGIN:VCALENDAR
VERSION:2.0
PRODID:Events Booking
BEGIN:VEVENT
UID:69e7c8c5ca31c
SUMMARY:The Change Savvy Project Manager: Navigating Resistance and Adoptio
 n
DESCRIPTION:
 &nbsp\;
 &nbsp\;
 Organizations are inundated with change.
  New technologies\, operational challenges\, and adjusted expectations are
  creating rapid\, compounding change. Discover a model to navigate persona
 l and organizational change while building agility and resilience in yours
 elf and others. Identify strategies and techniques to recognize and overco
 me resistance\, uncertainty\, and apprehension. Use the READY framework to
  design an action plan to adapt to change and encourage organizational ado
 ption of change.
LOCATION:Unique URL pending Registration
DTSTART:20250708T190000Z
DTEND:20250708T203000Z
DTSTAMP:20260421T185813Z
ORGANIZER;CN=PMI Portland Chapter:MAILTO:communications@pmi-portland.org
GEO:45.50647;-122.667988
X-APPLE-STRUCTURED-LOCATION;VALUE=URI;X-ADDRESS=Unique URL pending Registra
 tion;X-APPLE-RADIUS=72;X-TITLE=Virtual:45.50647;-122.667988
END:VEVENT
END:VCALENDAR