BEGIN:VCALENDAR
VERSION:2.0
PRODID:Events Booking
BEGIN:VEVENT
UID:69e8c6e383698
SUMMARY:Becoming a Mindful Leader
DESCRIPTION:
 &nbsp\;
 &nbsp\;
 Mindful leadership is leading from a sta
 te of presence and then creating a culture of presence amongst your team o
 r organization.
 In this presentation\, you will learn the five core comp
 etencies of mindful leadership. Then how to implement each of these into y
 our lives and leadership styles to make you a more impactful leader. This 
 will help you raise your level of awareness\, strengthen relationships\, i
 ncrease productivity\, and improve emotional well-being.
LOCATION:Unique URL pending Registration
DTSTART:20240808T000000Z
DTEND:20240808T010000Z
DTSTAMP:20260422T130227Z
ORGANIZER;CN=PMI Portland Chapter:MAILTO:communications@pmi-portland.org
GEO:45.50647;-122.667988
X-APPLE-STRUCTURED-LOCATION;VALUE=URI;X-ADDRESS=Unique URL pending Registra
 tion;X-APPLE-RADIUS=72;X-TITLE=Virtual:45.50647;-122.667988
END:VEVENT
END:VCALENDAR