BEGIN:VCALENDAR
VERSION:2.0
PRODID:Events Booking
BEGIN:VEVENT
UID:69e731f74d72d
SUMMARY:Mentoring Spring 2026 Session Signup
DESCRIPTION:
DTSTART:20260327T070000Z
DTEND:20260328T065500Z
DTSTAMP:20260304T115544Z
ORGANIZER;CN=PMI Portland Chapter:MAILTO:communications@pmi-portland.org
END:VEVENT
END:VCALENDAR