BEGIN:VCALENDAR
VERSION:2.0
PRODID:Events Booking
BEGIN:VEVENT
UID:69e80cab4b0c5
SUMMARY:Mentoring Spring 2025 Session Signup
DESCRIPTION:
DTSTART:20250401T070000Z
DTEND:20250403T065500Z
DTSTAMP:20260421T234755Z
ORGANIZER;CN=PMI Portland Chapter:MAILTO:communications@pmi-portland.org
END:VEVENT
END:VCALENDAR