BEGIN:VCALENDAR
VERSION:2.0
PRODID:Events Booking
BEGIN:VEVENT
UID:69e72d78cf79b
SUMMARY:Mentoring Fall 2025 Session Signup
DESCRIPTION:
DTSTART:20251001T070000Z
DTEND:20251002T065500Z
DTSTAMP:20260421T075536Z
ORGANIZER;CN=PMI Portland Chapter:MAILTO:communications@pmi-portland.org
END:VEVENT
END:VCALENDAR