BEGIN:VCALENDAR
VERSION:2.0
PRODID:Events Booking
BEGIN:VEVENT
UID:69e8b18b2126e
SUMMARY:Mentoring Fall 2024 Session Signup (Mentors)
DESCRIPTION:
DTSTART:20241001T070000Z
DTEND:20241002T065500Z
DTSTAMP:20260422T113123Z
ORGANIZER;CN=PMI Portland Chapter:MAILTO:communications@pmi-portland.org
END:VEVENT
END:VCALENDAR