BEGIN:VCALENDAR
VERSION:2.0
PRODID:Events Booking
BEGIN:VEVENT
UID:69e89c723c0bf
SUMMARY:Mentoring Fall 2024 Session Signup (Mentees)
DESCRIPTION:
DTSTART:20241001T070000Z
DTEND:20241002T065500Z
DTSTAMP:20260422T100122Z
ORGANIZER;CN=PMI Portland Chapter:MAILTO:communications@pmi-portland.org
END:VEVENT
END:VCALENDAR