BEGIN:VCALENDAR
VERSION:2.0
PRODID:Events Booking
BEGIN:VEVENT
UID:69e9cf66e567a
SUMMARY:Mentoring Spring Session Signup (Mentors)
DESCRIPTION:
DTSTART:20230523T070000Z
DTEND:20230603T065500Z
DTSTAMP:20260423T075102Z
ORGANIZER;CN=PMI Portland Chapter:MAILTO:communications@pmi-portland.org
END:VEVENT
END:VCALENDAR