BEGIN:VCALENDAR
VERSION:2.0
PRODID:Events Booking
BEGIN:VEVENT
UID:69e9e3a500621
SUMMARY:Mentoring Spring Session Signup (Mentees)
DESCRIPTION:
DTSTART:20230523T070000Z
DTEND:20230603T065500Z
DTSTAMP:20260423T091725Z
ORGANIZER;CN=PMI Portland Chapter:MAILTO:communications@pmi-portland.org
END:VEVENT
END:VCALENDAR